BEGIN:VCALENDAR
VERSION:2.0
PRODID:-//AV Tassilo Linz//NONSGML v1.0//EN
CALSCALE:GREGORIAN
UID:c053c22e346bf3839861f49f90fda3b1@AV Tassilo Linz
BEGIN:VEVENT
UID:22eec1dba80a590f9e8021cc8587346e@AV Tassilo Linz
DTSTART:20260704T173000Z
DTSTAMP:20260419T152836Z
LOCATION:Bude
SUMMARY:2. BC
END:VEVENT
BEGIN:VEVENT
UID:b8db75fa79a0910c9abb3650c4939332@AV Tassilo Linz
DTSTART:20260704T153000Z
DTSTAMP:20260419T152836Z
LOCATION:Bude
SUMMARY:Sommer BBQ
END:VEVENT
BEGIN:VEVENT
UID:ab4e1603605e5f7d66c7ba81e2bfe9e0@AV Tassilo Linz
DTSTART:20260627T190000Z
DTSTAMP:20260419T152836Z
LOCATION:Bude
SUMMARY:Borussia Stiftungsfest
END:VEVENT
BEGIN:VEVENT
UID:d244905362a052fb6b974b229472a827@AV Tassilo Linz
DTSTART:20260612T190000Z
DTSTAMP:20260419T152836Z
LOCATION:Bude
SUMMARY:Mojitokneipe
END:VEVENT
BEGIN:VEVENT
UID:d77fbf76235a37eaeeb2672b22a240b4@AV Tassilo Linz
DTSTART:20260601T152836Z
DTSTAMP:20260419T152836Z
LOCATION:St. Thomas am Blasenstein
SUMMARY:WA: Homemade 2
DESCRIPTION:Genaues Datum folgt!    Honigverarbeitung, Wurstherstellung,  Schnapsbrennen  Beginn: 9:00 s.t c.f.
END:VEVENT
BEGIN:VEVENT
UID:e3eda9d891e418e32923cbabbf44f4b3@AV Tassilo Linz
DTSTART:20260529T152836Z
DTEND:20260531
DTSTAMP:20260419T152836Z
LOCATION:
SUMMARY:Aggstein Stiftungsfest
DESCRIPTION:Nähere Infos folgen!
END:VEVENT
END:VCALENDAR